BEGIN:VCALENDAR
VERSION:2.0
PRODID:-//Wedgwood East NA - ECPv6.15.17.1//NONSGML v1.0//EN
CALSCALE:GREGORIAN
METHOD:PUBLISH
X-WR-CALNAME:Wedgwood East NA
X-ORIGINAL-URL:https://wedgwoodeast.org
X-WR-CALDESC:Events for Wedgwood East NA
REFRESH-INTERVAL;VALUE=DURATION:PT1H
X-Robots-Tag:noindex
X-PUBLISHED-TTL:PT1H
BEGIN:VTIMEZONE
TZID:America/New_York
BEGIN:DAYLIGHT
TZOFFSETFROM:-0500
TZOFFSETTO:-0400
TZNAME:EDT
DTSTART:20250309T070000
END:DAYLIGHT
BEGIN:STANDARD
TZOFFSETFROM:-0400
TZOFFSETTO:-0500
TZNAME:EST
DTSTART:20251102T060000
END:STANDARD
BEGIN:DAYLIGHT
TZOFFSETFROM:-0500
TZOFFSETTO:-0400
TZNAME:EDT
DTSTART:20260308T070000
END:DAYLIGHT
BEGIN:STANDARD
TZOFFSETFROM:-0400
TZOFFSETTO:-0500
TZNAME:EST
DTSTART:20261101T060000
END:STANDARD
BEGIN:DAYLIGHT
TZOFFSETFROM:-0500
TZOFFSETTO:-0400
TZNAME:EDT
DTSTART:20270314T070000
END:DAYLIGHT
BEGIN:STANDARD
TZOFFSETFROM:-0400
TZOFFSETTO:-0500
TZNAME:EST
DTSTART:20271107T060000
END:STANDARD
END:VTIMEZONE
BEGIN:VEVENT
DTSTART;TZID=America/New_York:20260514T183000
DTEND;TZID=America/New_York:20260514T200000
DTSTAMP:20260423T082517
CREATED:20260114T000751Z
LAST-MODIFIED:20260114T001126Z
UID:4309-1778783400-1778788800@wedgwoodeast.org
SUMMARY:General Membership Meeting- May
DESCRIPTION:📣 Join Us for Our General Membership Meeting! \nWe’d love to see you at our General Membership Meeting held on the 2nd Thursday every other month📅 January\, March\, May\, July\, September and November⏰ 6:30 PM📍 Southwest Community Center📍 6300 Welch Ave \nCome stay informed share your voice and connect with neighbors. Everyone is welcome your participation makes a difference 💬🤝
URL:https://wedgwoodeast.org/event/general-membership-meeting-may-3/
LOCATION:Southwest Community Center\, 6300 Welch Ave\, Fort Worth\, TX\, 76133
CATEGORIES:Meetings
ATTACH;FMTTYPE=image/png:https://wedgwoodeast.org/wp-content/uploads/2024/12/WENA-General-Meeting-Event.png
END:VEVENT
BEGIN:VEVENT
DTSTART;TZID=America/New_York:20260709T183000
DTEND;TZID=America/New_York:20260709T200000
DTSTAMP:20260423T082517
CREATED:20260114T000831Z
LAST-MODIFIED:20260114T001051Z
UID:4311-1783621800-1783627200@wedgwoodeast.org
SUMMARY:General Membership Meeting- July
DESCRIPTION:📣 Join Us for Our General Membership Meeting! \nWe’d love to see you at our General Membership Meeting held on the 2nd Thursday every other month📅 January\, March\, May\, July\, September and November⏰ 6:30 PM📍 Southwest Community Center📍 6300 Welch Ave \nCome stay informed share your voice and connect with neighbors. Everyone is welcome your participation makes a difference 💬🤝
URL:https://wedgwoodeast.org/event/general-membership-meeting-july-3/
LOCATION:Southwest Community Center\, 6300 Welch Ave\, Fort Worth\, TX\, 76133
CATEGORIES:Meetings
ATTACH;FMTTYPE=image/png:https://wedgwoodeast.org/wp-content/uploads/2024/12/WENA-General-Meeting-Event.png
END:VEVENT
BEGIN:VEVENT
DTSTART;TZID=America/New_York:20260910T183000
DTEND;TZID=America/New_York:20260910T200000
DTSTAMP:20260423T082517
CREATED:20260114T000917Z
LAST-MODIFIED:20260114T001106Z
UID:4313-1789065000-1789070400@wedgwoodeast.org
SUMMARY:General Membership Meeting- Sept
DESCRIPTION:📣 Join Us for Our General Membership Meeting! \nWe’d love to see you at our General Membership Meeting held on the 2nd Thursday every other month📅 January\, March\, May\, July\, September and November⏰ 6:30 PM📍 Southwest Community Center📍 6300 Welch Ave \nCome stay informed share your voice and connect with neighbors. Everyone is welcome your participation makes a difference 💬🤝
URL:https://wedgwoodeast.org/event/general-membership-meeting-sept-3/
LOCATION:Southwest Community Center\, 6300 Welch Ave\, Fort Worth\, TX\, 76133
CATEGORIES:Meetings
ATTACH;FMTTYPE=image/png:https://wedgwoodeast.org/wp-content/uploads/2024/12/WENA-General-Meeting-Event.png
END:VEVENT
END:VCALENDAR